BEGIN:VCALENDAR
VERSION:2.0
PRODID:-//The Highlands - ECPv6.15.20//NONSGML v1.0//EN
CALSCALE:GREGORIAN
METHOD:PUBLISH
X-WR-CALNAME:The Highlands
X-ORIGINAL-URL:https://thehighlandsgr.org
X-WR-CALDESC:Events for The Highlands
REFRESH-INTERVAL;VALUE=DURATION:PT1H
X-Robots-Tag:noindex
X-PUBLISHED-TTL:PT1H
BEGIN:VTIMEZONE
TZID:UTC
BEGIN:STANDARD
TZOFFSETFROM:+0000
TZOFFSETTO:+0000
TZNAME:UTC
DTSTART:20200101T000000
END:STANDARD
END:VTIMEZONE
BEGIN:VEVENT
DTSTART;TZID=UTC:20210522T090000
DTEND;TZID=UTC:20210522T110000
DTSTAMP:20260423T171551
CREATED:20210524T191718Z
LAST-MODIFIED:20210524T192034Z
UID:1173-1621674000-1621681200@thehighlandsgr.org
SUMMARY:Birding Walk
DESCRIPTION:Join the Land Conservancy of West Michigan for a birding excursion at The Highlands! Experience the wonders of spring bird migration and see how many birds you can spot and identify. This event is for birders of all experience levels and is family friendly. Please bring your own binoculars. Participation is free but please register to let us know you are coming. \nMasks are required and all participants are requested to follow social distancing protocols. For more information on our COVID-19 guidelines\, please visit naturenearby.org/covid-19. \nImage: Belted kingfisher photographed by Paul Raiman \n﻿﻿﻿﻿﻿﻿﻿﻿﻿﻿﻿﻿﻿﻿
URL:https://thehighlandsgr.org/event/birding-walk-05-22-21/
LOCATION:The Highlands\, 2715 Leonard St NW\, Grand Rapids\, 49504
CATEGORIES:Free
ATTACH;FMTTYPE=image/jpeg:https://thehighlandsgr.org/wp-content/uploads/2021/04/kingfisher-scaled.jpg
END:VEVENT
END:VCALENDAR